BEGIN:VCALENDAR
VERSION:2.0
PRODID:-//wp-events-plugin.com//7.2.3.1//EN
TZID:America/Los_Angeles
X-WR-TIMEZONE:America/Los_Angeles
BEGIN:VEVENT
UID:242@cbsnapa.org
DTSTART;TZID=America/Los_Angeles:20250912T153000
DTEND;TZID=America/Los_Angeles:20250912T163000
DTSTAMP:20250819T165712Z
URL:https://www.cbsnapa.org/events/aquafit-class-4/
SUMMARY:AquaFit class
DESCRIPTION:AquaFit class\, led by Beth Shalom member Tanya\, consists of a
 erobic and strength exercises done in our pool\, using the water's resista
 nce and buoyancy to provide a fun\, low-impact workout. No experience nec
 essary. Registration is required\, click More Info button below for the li
 nk to register.
ATTACH;FMTTYPE=image/jpeg:https://www.cbsnapa.org/wp-content/uploads/2025/
 07/Aquafit.png
CATEGORIES:Pool,Special Events
END:VEVENT
BEGIN:VTIMEZONE
TZID:America/Los_Angeles
X-LIC-LOCATION:America/Los_Angeles
BEGIN:DAYLIGHT
DTSTART:20250309T030000
TZOFFSETFROM:-0800
TZOFFSETTO:-0700
TZNAME:PDT
END:DAYLIGHT
END:VTIMEZONE
END:VCALENDAR