BEGIN:VCALENDAR
VERSION:2.0
PRODID:-//wp-events-plugin.com//7.2.3.1//EN
TZID:America/Los_Angeles
X-WR-TIMEZONE:America/Los_Angeles
BEGIN:VEVENT
UID:244@cbsnapa.org
DTSTART;TZID=America/Los_Angeles:20251018T103000
DTEND;TZID=America/Los_Angeles:20251018T120000
DTSTAMP:20250827T001851Z
URL:https://www.cbsnapa.org/events/bereishit-shabbat-morning-service/
SUMMARY:Bereishit Shabbat morning service
DESCRIPTION:\n\nDelight in the full Shabbat morning experience as we welcom
 e the beginning of the Torah cycle anew\, reading the first verses of Gene
 sis from our Torah scroll. Following the service\, share in the joy of com
 munity with a Kiddush luncheon. All are welcome.\n
ATTACH;FMTTYPE=image/jpeg:https://www.cbsnapa.org/wp-content/uploads/2025/
 08/bereishit.png
CATEGORIES:Shabbat Service,Special Events
END:VEVENT
BEGIN:VTIMEZONE
TZID:America/Los_Angeles
X-LIC-LOCATION:America/Los_Angeles
BEGIN:DAYLIGHT
DTSTART:20250309T030000
TZOFFSETFROM:-0800
TZOFFSETTO:-0700
TZNAME:PDT
END:DAYLIGHT
END:VTIMEZONE
END:VCALENDAR