BEGIN:VCALENDAR
VERSION:2.0
PRODID:-//wp-events-plugin.com//7.2.3.1//EN
TZID:America/Los_Angeles
X-WR-TIMEZONE:America/Los_Angeles
BEGIN:VEVENT
UID:236@cbsnapa.org
DTSTART;TZID=America/Los_Angeles:20251005T093000
DTEND;TZID=America/Los_Angeles:20251005T120000
DTSTAMP:20250925T180917Z
URL:https://www.cbsnapa.org/events/build-our-sukkah/
SUMMARY:Build and decorate our Sukkah
DESCRIPTION:Roll up your sleeves and join us for a fun-filled morning of bu
 ilding and decorating our synagogue Sukkah alongside our Religious School 
 students.
ATTACH;FMTTYPE=image/jpeg:https://www.cbsnapa.org/wp-content/uploads/2025/
 08/build-sukkah.png
CATEGORIES:Holiday Program,Special Events
END:VEVENT
BEGIN:VTIMEZONE
TZID:America/Los_Angeles
X-LIC-LOCATION:America/Los_Angeles
BEGIN:DAYLIGHT
DTSTART:20250309T030000
TZOFFSETFROM:-0800
TZOFFSETTO:-0700
TZNAME:PDT
END:DAYLIGHT
END:VTIMEZONE
END:VCALENDAR