BEGIN:VCALENDAR
VERSION:2.0
PRODID:-//wp-events-plugin.com//7.2.3.1//EN
TZID:America/Los_Angeles
X-WR-TIMEZONE:America/Los_Angeles
BEGIN:VEVENT
UID:205@cbsnapa.org
DTSTART;TZID=America/Los_Angeles:20250921T110000
DTEND;TZID=America/Los_Angeles:20250921T120000
DTSTAMP:20250808T214051Z
URL:https://www.cbsnapa.org/events/challah-bake/
SUMMARY:Challah bake
DESCRIPTION:Let's bake challah together! No experience is needed\, and we p
 rovide everything you'll need to create your own delicious challah from sc
 ratch. Registration is required. Click the More Info button below to regis
 ter.
ATTACH;FMTTYPE=image/jpeg:https://www.cbsnapa.org/wp-content/uploads/2025/
 07/challah-bake.png
CATEGORIES:General Jewish Community,Special Events
END:VEVENT
BEGIN:VTIMEZONE
TZID:America/Los_Angeles
X-LIC-LOCATION:America/Los_Angeles
BEGIN:DAYLIGHT
DTSTART:20250309T030000
TZOFFSETFROM:-0800
TZOFFSETTO:-0700
TZNAME:PDT
END:DAYLIGHT
END:VTIMEZONE
END:VCALENDAR