BEGIN:VCALENDAR
VERSION:2.0
PRODID:-//wp-events-plugin.com//7.2.3.1//EN
TZID:America/Los_Angeles
X-WR-TIMEZONE:America/Los_Angeles
BEGIN:VEVENT
UID:206@cbsnapa.org
DTSTART;TZID=America/Los_Angeles:20250922T190000
DTEND;TZID=America/Los_Angeles:20250922T210000
DTSTAMP:20250809T195904Z
URL:https://www.cbsnapa.org/events/erev-rosh-hashanah/
SUMMARY:Erev Rosh Hashanah
DESCRIPTION:Join us for Erev Rosh Hashanah\, led by Rabbi Niles & Gordon Lu
 stig\, as we welcome the Jewish New Year. Registration is required\, click
  More Info button below for link to register.
ATTACH;FMTTYPE=image/jpeg:https://www.cbsnapa.org/wp-content/uploads/2025/
 07/erev-RH.png
CATEGORIES:Holiday Program,Special Events
END:VEVENT
BEGIN:VTIMEZONE
TZID:America/Los_Angeles
X-LIC-LOCATION:America/Los_Angeles
BEGIN:DAYLIGHT
DTSTART:20250309T030000
TZOFFSETFROM:-0800
TZOFFSETTO:-0700
TZNAME:PDT
END:DAYLIGHT
END:VTIMEZONE
END:VCALENDAR