BEGIN:VCALENDAR
VERSION:2.0
PRODID:-//wp-events-plugin.com//7.2.3.1//EN
TZID:America/Los_Angeles
X-WR-TIMEZONE:America/Los_Angeles
BEGIN:VEVENT
UID:198@cbsnapa.org
DTSTART;TZID=America/Los_Angeles:20250907T093000
DTEND;TZID=America/Los_Angeles:20250907T120000
DTSTAMP:20250826T231851Z
URL:https://www.cbsnapa.org/events/first-day-of-religious-school/
SUMMARY:First day of Religious School
DESCRIPTION:Is your child enrolled yet in our Religious School? If not\, cl
 ick More Info button below to learn more!
ATTACH;FMTTYPE=image/jpeg:https://www.cbsnapa.org/wp-content/uploads/2025/
 07/first-day-religious-school.png
CATEGORIES:Religious School,Special Events
END:VEVENT
BEGIN:VTIMEZONE
TZID:America/Los_Angeles
X-LIC-LOCATION:America/Los_Angeles
BEGIN:DAYLIGHT
DTSTART:20250309T030000
TZOFFSETFROM:-0800
TZOFFSETTO:-0700
TZNAME:PDT
END:DAYLIGHT
END:VTIMEZONE
END:VCALENDAR