BEGIN:VCALENDAR
VERSION:2.0
PRODID:-//wp-events-plugin.com//7.2.3.1//EN
TZID:America/Los_Angeles
X-WR-TIMEZONE:America/Los_Angeles
BEGIN:VEVENT
UID:208@cbsnapa.org
DTSTART;TZID=America/Los_Angeles:20251001T190000
DTEND;TZID=America/Los_Angeles:20251001T210000
DTSTAMP:20250810T001108Z
URL:https://www.cbsnapa.org/events/kol-nidre/
SUMMARY:Kol Nidre
DESCRIPTION:We invite you to join us for our Kol Nidre service\, the profou
 ndly moving start to Yom Kippur. Registration is required\, click More Inf
 o button below for link to register.
ATTACH;FMTTYPE=image/jpeg:https://www.cbsnapa.org/wp-content/uploads/2025/
 07/kol-nidre.png
CATEGORIES:Holiday Program,Special Events
END:VEVENT
BEGIN:VTIMEZONE
TZID:America/Los_Angeles
X-LIC-LOCATION:America/Los_Angeles
BEGIN:DAYLIGHT
DTSTART:20250309T030000
TZOFFSETFROM:-0800
TZOFFSETTO:-0700
TZNAME:PDT
END:DAYLIGHT
END:VTIMEZONE
END:VCALENDAR