BEGIN:VCALENDAR
VERSION:2.0
PRODID:-//wp-events-plugin.com//7.2.3.1//EN
TZID:America/Los_Angeles
X-WR-TIMEZONE:America/Los_Angeles
BEGIN:VEVENT
UID:200@cbsnapa.org
DTSTART;TZID=America/Los_Angeles:20251024T150000
DTEND;TZID=America/Los_Angeles:20251024T180000
DTSTAMP:20250731T175031Z
URL:https://www.cbsnapa.org/events/member-pool-day-2/
SUMMARY:Member pool day
DESCRIPTION:Members-only pool days are a benefit of membership at Beth Shal
 om. Come enjoy fun in the sun at the shul with the pool. Registration is r
 equired\, click More Info button for the link to register.
ATTACH;FMTTYPE=image/jpeg:https://www.cbsnapa.org/wp-content/uploads/2025/
 07/pool-day.png
CATEGORIES:Pool,Special Events
END:VEVENT
BEGIN:VTIMEZONE
TZID:America/Los_Angeles
X-LIC-LOCATION:America/Los_Angeles
BEGIN:DAYLIGHT
DTSTART:20250309T030000
TZOFFSETFROM:-0800
TZOFFSETTO:-0700
TZNAME:PDT
END:DAYLIGHT
END:VTIMEZONE
END:VCALENDAR