BEGIN:VCALENDAR
VERSION:2.0
PRODID:-//wp-events-plugin.com//7.2.3.1//EN
TZID:America/Los_Angeles
X-WR-TIMEZONE:America/Los_Angeles
BEGIN:VEVENT
UID:54@cbsnapa.org
DTSTART;TZID=America/Los_Angeles:20250623T180000
DTEND;TZID=America/Los_Angeles:20250623T210000
DTSTAMP:20250623T175502Z
URL:https://www.cbsnapa.org/events/movie-showing-unspoken/
SUMMARY:Movie Showing: Unspoken
DESCRIPTION:Description of the movie goes here....\n\nBring your popcorn...
 \n\nClick here register.
CATEGORIES:Special Events
END:VEVENT
BEGIN:VTIMEZONE
TZID:America/Los_Angeles
X-LIC-LOCATION:America/Los_Angeles
BEGIN:DAYLIGHT
DTSTART:20250309T030000
TZOFFSETFROM:-0800
TZOFFSETTO:-0700
TZNAME:PDT
END:DAYLIGHT
END:VTIMEZONE
END:VCALENDAR