BEGIN:VCALENDAR
VERSION:2.0
PRODID:-//wp-events-plugin.com//7.2.3.1//EN
TZID:America/Los_Angeles
X-WR-TIMEZONE:America/Los_Angeles
BEGIN:VEVENT
UID:248@cbsnapa.org
DTSTART;TZID=America/Los_Angeles:20251007T190000
DTEND;TZID=America/Los_Angeles:20251007T203000
DTSTAMP:20250916T221035Z
URL:https://www.cbsnapa.org/events/october-7th-commemoration/
SUMMARY:October 7th Commemoration
DESCRIPTION:Our evening together will begin with a holiday Havdalah in our 
 Sukkah\, followed by a program in our sanctuary with guest speaker\, Israe
 li\, and Beth Shalom member Efi Lubliner\, who will share a presentation o
 n the history of Israel. Join us for this significant event to honor and u
 nderstand the enduring spirit of Israel.
ATTACH;FMTTYPE=image/jpeg:https://www.cbsnapa.org/wp-content/uploads/2025/
 09/oct7.png
CATEGORIES:General Jewish Community,Special Events
END:VEVENT
BEGIN:VTIMEZONE
TZID:America/Los_Angeles
X-LIC-LOCATION:America/Los_Angeles
BEGIN:DAYLIGHT
DTSTART:20250309T030000
TZOFFSETFROM:-0800
TZOFFSETTO:-0700
TZNAME:PDT
END:DAYLIGHT
END:VTIMEZONE
END:VCALENDAR