BEGIN:VCALENDAR
VERSION:2.0
PRODID:-//wp-events-plugin.com//7.2.3.1//EN
TZID:America/Los_Angeles
X-WR-TIMEZONE:America/Los_Angeles
BEGIN:VEVENT
UID:179@cbsnapa.org
DTSTART;TZID=America/Los_Angeles;VALUE=DATE:20251007
DTEND;TZID=America/Los_Angeles;VALUE=DATE:20251008
DTSTAMP:20250725T150515Z
URL:https://www.cbsnapa.org/events/office-closed-today-2/
SUMMARY:Office closed today
DESCRIPTION:
END:VEVENT
BEGIN:VTIMEZONE
TZID:America/Los_Angeles
X-LIC-LOCATION:America/Los_Angeles
BEGIN:DAYLIGHT
DTSTART:20250309T030000
TZOFFSETFROM:-0800
TZOFFSETTO:-0700
TZNAME:PDT
END:DAYLIGHT
END:VTIMEZONE
END:VCALENDAR