BEGIN:VCALENDAR
VERSION:2.0
PRODID:-//wp-events-plugin.com//7.2.3.1//EN
TZID:America/Los_Angeles
X-WR-TIMEZONE:America/Los_Angeles
BEGIN:VEVENT
UID:333@cbsnapa.org
DTSTART;TZID=America/Los_Angeles:20260402T173000
DTEND;TZID=America/Los_Angeles:20260402T203000
DTSTAMP:20260313T174131Z
URL:https://www.cbsnapa.org/events/passover-second-night-community-seder/
SUMMARY:Passover Second Night Community Seder
DESCRIPTION:Join with the Congregation Beth Shalom community for a second n
 ight Passover Seder\, led by Rabbi Niles Goldstein and Gordon Lustig. Regi
 stration required by March 27.
ATTACH;FMTTYPE=image/jpeg:https://www.cbsnapa.org/wp-content/uploads/2026/
 03/seder.png
CATEGORIES:Holiday Program,Special Events
END:VEVENT
BEGIN:VTIMEZONE
TZID:America/Los_Angeles
X-LIC-LOCATION:America/Los_Angeles
BEGIN:DAYLIGHT
DTSTART:20260308T030000
TZOFFSETFROM:-0800
TZOFFSETTO:-0700
TZNAME:PDT
END:DAYLIGHT
END:VTIMEZONE
END:VCALENDAR