BEGIN:VCALENDAR
VERSION:2.0
PRODID:-//wp-events-plugin.com//7.2.3.1//EN
TZID:America/Los_Angeles
X-WR-TIMEZONE:America/Los_Angeles
BEGIN:VEVENT
UID:225@cbsnapa.org
DTSTART;TZID=America/Los_Angeles:20250909T150000
DTEND;TZID=America/Los_Angeles:20250909T170000
DTSTAMP:20250801T121735Z
URL:https://www.cbsnapa.org/events/rabbi-niles-walk-in-office-hours-2025-0
 9-09/
SUMMARY:Rabbi Niles’ walk-in office hours
DESCRIPTION:Rabbi Niles offers open office hours Tuesdays from 3:00 pm to 5
 :00 pm\, providing a welcoming space to discuss whatever is on your mind.
  
ATTACH;FMTTYPE=image/jpeg:https://www.cbsnapa.org/wp-content/uploads/2025/
 08/rabbi-office.png
CATEGORIES:General Jewish Community,Special Events
END:VEVENT
BEGIN:VTIMEZONE
TZID:America/Los_Angeles
X-LIC-LOCATION:America/Los_Angeles
BEGIN:DAYLIGHT
DTSTART:20250309T030000
TZOFFSETFROM:-0800
TZOFFSETTO:-0700
TZNAME:PDT
END:DAYLIGHT
END:VTIMEZONE
END:VCALENDAR