BEGIN:VCALENDAR
VERSION:2.0
PRODID:-//wp-events-plugin.com//7.2.3.1//EN
TZID:America/Los_Angeles
X-WR-TIMEZONE:America/Los_Angeles
BEGIN:VEVENT
UID:210@cbsnapa.org
DTSTART;TZID=America/Los_Angeles:20250923T093000
DTEND;TZID=America/Los_Angeles:20250923T123000
DTSTAMP:20250809T200110Z
URL:https://www.cbsnapa.org/events/rosh-hashanah/
SUMMARY:Rosh Hashanah
DESCRIPTION:Celebrate Rosh Hashanah with us as we mark the Jewish New Year 
 with joyous services\, reflection\, and the sounding of the shofar. Click 
 More Info for the schedule of services. Registration is required\, click M
 ore Info button below for link to register.
ATTACH;FMTTYPE=image/jpeg:https://www.cbsnapa.org/wp-content/uploads/2025/
 07/RH.png
CATEGORIES:Holiday Program,Special Events
END:VEVENT
BEGIN:VTIMEZONE
TZID:America/Los_Angeles
X-LIC-LOCATION:America/Los_Angeles
BEGIN:DAYLIGHT
DTSTART:20250309T030000
TZOFFSETFROM:-0800
TZOFFSETTO:-0700
TZNAME:PDT
END:DAYLIGHT
END:VTIMEZONE
END:VCALENDAR