BEGIN:VCALENDAR
VERSION:2.0
PRODID:-//wp-events-plugin.com//7.2.3.1//EN
TZID:America/Los_Angeles
X-WR-TIMEZONE:America/Los_Angeles
BEGIN:VEVENT
UID:243@cbsnapa.org
DTSTART;TZID=America/Los_Angeles:20250907T120000
DTEND;TZID=America/Los_Angeles:20250907T133000
DTSTAMP:20250822T162524Z
URL:https://www.cbsnapa.org/events/schmooze-with-rabbi-niles-carolyn/
SUMMARY:Schmooze with Rabbi Niles & Carolyn
DESCRIPTION:Calling Religious School parents! Come hang out for a schmooze 
 session with Rabbi Niles and Carolyn\, right after Religious School. This 
 is the perfect opportunity for parents to get to know our rabbi and rebbet
 zin in a relaxed and casual setting. Enjoy refreshments while the kids hav
 e fun in the pool and playground. 
ATTACH;FMTTYPE=image/jpeg:https://www.cbsnapa.org/wp-content/uploads/2025/
 08/schmooze.png
CATEGORIES:Religious School,Special Events
END:VEVENT
BEGIN:VTIMEZONE
TZID:America/Los_Angeles
X-LIC-LOCATION:America/Los_Angeles
BEGIN:DAYLIGHT
DTSTART:20250309T030000
TZOFFSETFROM:-0800
TZOFFSETTO:-0700
TZNAME:PDT
END:DAYLIGHT
END:VTIMEZONE
END:VCALENDAR