BEGIN:VCALENDAR
VERSION:2.0
PRODID:-//wp-events-plugin.com//7.2.3.1//EN
TZID:America/Los_Angeles
X-WR-TIMEZONE:America/Los_Angeles
BEGIN:VEVENT
UID:234@cbsnapa.org
DTSTART;TZID=America/Los_Angeles:20251011T190000
DTEND;TZID=America/Los_Angeles:20251011T210000
DTSTAMP:20250822T175732Z
URL:https://www.cbsnapa.org/events/scotch-and-steak-in-the-sukkah/
SUMMARY:Scotch and Steak in the Sukkah
DESCRIPTION:Join us for an unforgettable evening at Scotch and Steak in the
  Sukkah... What could be better than savoring steaks and sipping on fine s
 cotch under the stars in our cozy Sukkah? Click More Info button below for
  the link to register.
ATTACH;FMTTYPE=image/jpeg:https://www.cbsnapa.org/wp-content/uploads/2025/
 08/scotch-steak.png
CATEGORIES:Holiday Program,Special Events
END:VEVENT
BEGIN:VTIMEZONE
TZID:America/Los_Angeles
X-LIC-LOCATION:America/Los_Angeles
BEGIN:DAYLIGHT
DTSTART:20250309T030000
TZOFFSETFROM:-0800
TZOFFSETTO:-0700
TZNAME:PDT
END:DAYLIGHT
END:VTIMEZONE
END:VCALENDAR