BEGIN:VCALENDAR
VERSION:2.0
PRODID:-//wp-events-plugin.com//7.2.3.1//EN
TZID:America/Los_Angeles
X-WR-TIMEZONE:America/Los_Angeles
BEGIN:VEVENT
UID:204@cbsnapa.org
DTSTART;TZID=America/Los_Angeles:20250913T190000
DTEND;TZID=America/Los_Angeles:20250913T203000
DTSTAMP:20250822T175048Z
URL:https://www.cbsnapa.org/events/selichot-service/
SUMMARY:Selichot service
DESCRIPTION:Join Rabbi Goldstein & Gordon Lustig for an evening of song\, p
 oetry\, & meditation led by Stuart Eisendrath.
ATTACH;FMTTYPE=image/jpeg:https://www.cbsnapa.org/wp-content/uploads/2025/
 07/Selichot.png
CATEGORIES:Holiday Program,Special Events
END:VEVENT
BEGIN:VTIMEZONE
TZID:America/Los_Angeles
X-LIC-LOCATION:America/Los_Angeles
BEGIN:DAYLIGHT
DTSTART:20250309T030000
TZOFFSETFROM:-0800
TZOFFSETTO:-0700
TZNAME:PDT
END:DAYLIGHT
END:VTIMEZONE
END:VCALENDAR