BEGIN:VCALENDAR
VERSION:2.0
PRODID:-//wp-events-plugin.com//7.2.3.1//EN
TZID:America/Los_Angeles
X-WR-TIMEZONE:America/Los_Angeles
BEGIN:VEVENT
UID:72@cbsnapa.org
DTSTART;TZID=America/Los_Angeles:20250711T180000
DTEND;TZID=America/Los_Angeles:20250711T180000
DTSTAMP:20250710T172914Z
URL:https://www.cbsnapa.org/events/shabbat-evening-service-2025-07-11/
SUMMARY:Shabbat evening service
DESCRIPTION:Led by Rabbi Art Grand &amp\; Gordon Lustig in-person or online
  via YouTube.\n\nJoin us as we welcome Shabbat together\, creating a sacre
 d pause in our busy lives. Come as you are – all are embraced in our inc
 lusive community. Service is about an hour\, immediately followed by our O
 neg reception of food\, wine\, and friendship.\n\nOneg sponsored by ....\n
 \n&nbsp\;
ATTACH;FMTTYPE=image/jpeg:https://www.cbsnapa.org/wp-content/uploads/2025/
 05/shabbat-service.jpg
CATEGORIES:Shabbat Service,Special Events
END:VEVENT
BEGIN:VTIMEZONE
TZID:America/Los_Angeles
X-LIC-LOCATION:America/Los_Angeles
BEGIN:DAYLIGHT
DTSTART:20250309T030000
TZOFFSETFROM:-0800
TZOFFSETTO:-0700
TZNAME:PDT
END:DAYLIGHT
END:VTIMEZONE
END:VCALENDAR