BEGIN:VCALENDAR
VERSION:2.0
PRODID:-//wp-events-plugin.com//7.2.3.1//EN
TZID:America/Los_Angeles
X-WR-TIMEZONE:America/Los_Angeles
BEGIN:VEVENT
UID:140@cbsnapa.org
DTSTART;TZID=America/Los_Angeles:20250808T173000
DTEND;TZID=America/Los_Angeles:20250808T183000
DTSTAMP:20250802T150300Z
URL:https://www.cbsnapa.org/events/shabbat-evening-service-2025-08-08/
SUMMARY:Shabbat evening service
DESCRIPTION:Note: Today's service starts at 5:30 pm. This is a family servi
 ce\, bring the kids! Join us as we welcome Shabbat together on Friday even
 ing\, creating a sacred pause in our busy lives. Come as you are – all a
 re embraced in our inclusive community. Service is about an hour\, immedia
 tely followed by our Oneg reception of food\, wine\, and friendship.
ATTACH;FMTTYPE=image/jpeg:https://www.cbsnapa.org/wp-content/uploads/2025/
 05/shabbat-service.jpg
CATEGORIES:Shabbat Service,Special Events
END:VEVENT
BEGIN:VTIMEZONE
TZID:America/Los_Angeles
X-LIC-LOCATION:America/Los_Angeles
BEGIN:DAYLIGHT
DTSTART:20250309T030000
TZOFFSETFROM:-0800
TZOFFSETTO:-0700
TZNAME:PDT
END:DAYLIGHT
END:VTIMEZONE
END:VCALENDAR