BEGIN:VCALENDAR
VERSION:2.0
PRODID:-//wp-events-plugin.com//7.2.3.1//EN
TZID:America/Los_Angeles
X-WR-TIMEZONE:America/Los_Angeles
BEGIN:VEVENT
UID:149@cbsnapa.org
DTSTART;TZID=America/Los_Angeles:20251010T173000
DTEND;TZID=America/Los_Angeles:20251010T183000
DTSTAMP:20250822T175704Z
URL:https://www.cbsnapa.org/events/shabbat-evening-service-2025-10-10/
SUMMARY:Sukkot Shabbat evening service & potluck
DESCRIPTION:Note: Today's service starts at 5:30 pm. Led by Rabbi Niles & G
 ordon Lustig. This special Sukkot Shabbat service will be held outdoors at
  Hagafen Winery and will be followed by a potluck dinner. Click More Info 
 button below for the link to register.
ATTACH;FMTTYPE=image/jpeg:https://www.cbsnapa.org/wp-content/uploads/2025/
 05/shabbat-service-sukkot.png
CATEGORIES:Holiday Program,Shabbat Service,Special Events
END:VEVENT
BEGIN:VTIMEZONE
TZID:America/Los_Angeles
X-LIC-LOCATION:America/Los_Angeles
BEGIN:DAYLIGHT
DTSTART:20250309T030000
TZOFFSETFROM:-0800
TZOFFSETTO:-0700
TZNAME:PDT
END:DAYLIGHT
END:VTIMEZONE
END:VCALENDAR