BEGIN:VCALENDAR
VERSION:2.0
PRODID:-//wp-events-plugin.com//7.2.3.1//EN
TZID:America/Los_Angeles
X-WR-TIMEZONE:America/Los_Angeles
BEGIN:VEVENT
UID:150@cbsnapa.org
DTSTART;TZID=America/Los_Angeles:20251017T180000
DTEND;TZID=America/Los_Angeles:20251017T190000
DTSTAMP:20250822T175922Z
URL:https://www.cbsnapa.org/events/shabbat-evening-service-2025-10-17/
SUMMARY:Simchat Torah Shabbat evening service & potluck
DESCRIPTION:Celebrate with us at our Simchat Torah Shabbat service\, where 
 we will joyously unroll the entire Torah\, symbolizing the renewal of our 
 annual reading cycle. The service will be followed immediately by a potluc
 k dinner. Bring something yummy to share! Click More Info button below for
  link to register.
ATTACH;FMTTYPE=image/jpeg:https://www.cbsnapa.org/wp-content/uploads/2025/
 05/shabbat-service-SimchatTorah.png
CATEGORIES:Holiday Program,Shabbat Service,Special Events
END:VEVENT
BEGIN:VTIMEZONE
TZID:America/Los_Angeles
X-LIC-LOCATION:America/Los_Angeles
BEGIN:DAYLIGHT
DTSTART:20250309T030000
TZOFFSETFROM:-0800
TZOFFSETTO:-0700
TZNAME:PDT
END:DAYLIGHT
END:VTIMEZONE
END:VCALENDAR