BEGIN:VCALENDAR
VERSION:2.0
PRODID:-//wp-events-plugin.com//7.2.3.1//EN
TZID:America/Los_Angeles
X-WR-TIMEZONE:America/Los_Angeles
BEGIN:VEVENT
UID:358@cbsnapa.org
DTSTART;TZID=America/Los_Angeles:20260501T180000
DTEND;TZID=America/Los_Angeles:20260501T190000
DTSTAMP:20260421T042104Z
URL:https://www.cbsnapa.org/events/shabbat-evening-service-25/
SUMMARY:Shabbat evening service
DESCRIPTION:Join us as we welcome Shabbat together on Friday evening\, crea
 ting a sacred pause in our busy lives. Led By: Rabbi Goldstein\, Gordon Lu
 stig\, Marah and the CBS Religious School Students. Oneg: Wendy Cochran in
  honor of the baby naming of her granddaughter\, Luna Raelynn Bonds Cochra
 n
ATTACH;FMTTYPE=image/jpeg:https://www.cbsnapa.org/wp-content/uploads/2025/
 11/family-service.png
CATEGORIES:Shabbat Service,Special Events
END:VEVENT
BEGIN:VTIMEZONE
TZID:America/Los_Angeles
X-LIC-LOCATION:America/Los_Angeles
BEGIN:DAYLIGHT
DTSTART:20260308T030000
TZOFFSETFROM:-0800
TZOFFSETTO:-0700
TZNAME:PDT
END:DAYLIGHT
END:VTIMEZONE
END:VCALENDAR