BEGIN:VCALENDAR
VERSION:2.0
PRODID:-//wp-events-plugin.com//7.2.3.1//EN
TZID:America/Los_Angeles
X-WR-TIMEZONE:America/Los_Angeles
BEGIN:VEVENT
UID:361@cbsnapa.org
DTSTART;TZID=America/Los_Angeles:20260522T180000
DTEND;TZID=America/Los_Angeles:20260522T190000
DTSTAMP:20260420T231349Z
URL:https://www.cbsnapa.org/events/shabbat-evening-service-27/
SUMMARY:Shabbat evening service
DESCRIPTION:Join us as we welcome Shabbat together on Friday evening\, crea
 ting a sacred pause in our busy lives. Led By: Richard Pastcan and Gordon 
 Lustig. Oneg: Spitz Family in honor of Marty's 90th Birthday
ATTACH;FMTTYPE=image/jpeg:https://www.cbsnapa.org/wp-content/uploads/2025/
 05/shabbat-service.jpg
CATEGORIES:Shabbat Service,Special Events
END:VEVENT
BEGIN:VTIMEZONE
TZID:America/Los_Angeles
X-LIC-LOCATION:America/Los_Angeles
BEGIN:DAYLIGHT
DTSTART:20260308T030000
TZOFFSETFROM:-0800
TZOFFSETTO:-0700
TZNAME:PDT
END:DAYLIGHT
END:VTIMEZONE
END:VCALENDAR