BEGIN:VCALENDAR
VERSION:2.0
PRODID:-//wp-events-plugin.com//7.2.3.1//EN
TZID:America/Los_Angeles
X-WR-TIMEZONE:America/Los_Angeles
BEGIN:VEVENT
UID:365@cbsnapa.org
DTSTART;TZID=America/Los_Angeles:20260516T103000
DTEND;TZID=America/Los_Angeles:20260516T113000
DTSTAMP:20260421T171559Z
URL:https://www.cbsnapa.org/events/shabbat-evening-service-28/
SUMMARY:B'nei Mitzvah
DESCRIPTION:Join us for Shabbat morning services as we celebrate the B'nei 
 Mitzvah of Asher and Ella Fox. The service will mark this milestone as Ash
 er and Ella are called to the Torah and welcomed as Jewish adults in our c
 ommunity. All are welcome to share in this joyful occasion.
ATTACH;FMTTYPE=image/jpeg:https://www.cbsnapa.org/wp-content/uploads/2026/
 04/bnei-mitzvah.png
CATEGORIES:Shabbat Service,Special Events
END:VEVENT
BEGIN:VTIMEZONE
TZID:America/Los_Angeles
X-LIC-LOCATION:America/Los_Angeles
BEGIN:DAYLIGHT
DTSTART:20260308T030000
TZOFFSETFROM:-0800
TZOFFSETTO:-0700
TZNAME:PDT
END:DAYLIGHT
END:VTIMEZONE
END:VCALENDAR