BEGIN:VCALENDAR
VERSION:2.0
PRODID:-//wp-events-plugin.com//7.2.3.1//EN
TZID:America/Los_Angeles
X-WR-TIMEZONE:America/Los_Angeles
BEGIN:VEVENT
UID:288@cbsnapa.org
DTSTART;TZID=America/Los_Angeles:20260118T093000
DTEND;TZID=America/Los_Angeles:20260118T101500
DTSTAMP:20251209T212656Z
URL:https://www.cbsnapa.org/events/shorashim-for-little-ones/
SUMMARY:Shorashim for little ones
DESCRIPTION:Shorashim (“roots” in Hebrew) is our grown-up-and-me progr
 am for ages 0 through 2. Little ones and their parents enjoy lively music 
 & movement with fun Jewish themes.
ATTACH;FMTTYPE=image/jpeg:https://www.cbsnapa.org/wp-content/uploads/2025/
 12/shorashim.png
CATEGORIES:Family Programs,Special Events
END:VEVENT
BEGIN:VTIMEZONE
TZID:America/Los_Angeles
X-LIC-LOCATION:America/Los_Angeles
BEGIN:STANDARD
DTSTART:20251102T010000
TZOFFSETFROM:-0700
TZOFFSETTO:-0800
TZNAME:PST
END:STANDARD
END:VTIMEZONE
END:VCALENDAR