BEGIN:VCALENDAR
VERSION:2.0
PRODID:-//wp-events-plugin.com//7.2.3.1//EN
TZID:America/Los_Angeles
X-WR-TIMEZONE:America/Los_Angeles
BEGIN:VEVENT
UID:10@cbsnapa.org
DTSTART;TZID=America/Los_Angeles:20250617T103000
DTEND;TZID=America/Los_Angeles:20250617T120000
DTSTAMP:20250529T193551Z
URL:https://www.cbsnapa.org/events/soul-sisters-book-club/
SUMMARY:Soul Sisters Book Club
DESCRIPTION:Who by Fire: Leonard Cohen in the Sinai by Matti Friedman
CATEGORIES:Soul Sisters Book Club
END:VEVENT
BEGIN:VTIMEZONE
TZID:America/Los_Angeles
X-LIC-LOCATION:America/Los_Angeles
BEGIN:DAYLIGHT
DTSTART:20250309T030000
TZOFFSETFROM:-0800
TZOFFSETTO:-0700
TZNAME:PDT
END:DAYLIGHT
END:VTIMEZONE
END:VCALENDAR