BEGIN:VCALENDAR
VERSION:2.0
PRODID:-//wp-events-plugin.com//7.2.3.1//EN
TZID:America/Los_Angeles
X-WR-TIMEZONE:America/Los_Angeles
BEGIN:VEVENT
UID:211@cbsnapa.org
DTSTART;TZID=America/Los_Angeles:20250923T160000
DTEND;TZID=America/Los_Angeles:20250923T170000
DTSTAMP:20250822T175531Z
URL:https://www.cbsnapa.org/events/tashlich/
SUMMARY:Tashlich
DESCRIPTION:Join us for Tashlich at Kennedy Park in Napa\, a meaningful tra
 dition where we symbolically cast away our sins into the water\, reflectin
 g on personal growth and renewal for the New Year as we gather in communit
 y and contemplation. Registration for potluck is required\, click More Inf
 o button below for the link to register.
ATTACH;FMTTYPE=image/jpeg:https://www.cbsnapa.org/wp-content/uploads/2025/
 07/Tashlich.png
CATEGORIES:Holiday Program,Special Events
END:VEVENT
BEGIN:VTIMEZONE
TZID:America/Los_Angeles
X-LIC-LOCATION:America/Los_Angeles
BEGIN:DAYLIGHT
DTSTART:20250309T030000
TZOFFSETFROM:-0800
TZOFFSETTO:-0700
TZNAME:PDT
END:DAYLIGHT
END:VTIMEZONE
END:VCALENDAR