BEGIN:VCALENDAR
VERSION:2.0
PRODID:-//wp-events-plugin.com//7.2.3.1//EN
TZID:America/Los_Angeles
X-WR-TIMEZONE:America/Los_Angeles
BEGIN:VEVENT
UID:5@cbsnapa.org
DTSTART;TZID=America/Los_Angeles:20250628T103000
DTEND;TZID=America/Los_Angeles:20250628T113000
DTSTAMP:20250624T180306Z
URL:https://www.cbsnapa.org/events/torah-study-2025-06-28/
SUMMARY:Torah Study
DESCRIPTION:
CATEGORIES:Special Events,Torah Study
END:VEVENT
BEGIN:VTIMEZONE
TZID:America/Los_Angeles
X-LIC-LOCATION:America/Los_Angeles
BEGIN:DAYLIGHT
DTSTART:20250309T030000
TZOFFSETFROM:-0800
TZOFFSETTO:-0700
TZNAME:PDT
END:DAYLIGHT
END:VTIMEZONE
END:VCALENDAR