BEGIN:VCALENDAR
VERSION:2.0
PRODID:-//wp-events-plugin.com//7.2.3.1//EN
TZID:America/Los_Angeles
X-WR-TIMEZONE:America/Los_Angeles
BEGIN:VEVENT
UID:201@cbsnapa.org
DTSTART;TZID=America/Los_Angeles:20250916T130000
DTEND;TZID=America/Los_Angeles:20250916T141500
DTSTAMP:20250819T135158Z
URL:https://www.cbsnapa.org/events/torah-yoga-chair-class/
SUMMARY:Torah Yoga: chair class
DESCRIPTION:Connect mind\, body\, and spirit through gentle yoga infused wi
 th Torah wisdom led by Beth Shalom member Amy Hall. Move\, breathe\, and r
 eflect in community as we prepare for the High Holy Days. This Torah Yoga 
 session is a Chair Class: we’ll be using a supportive chair throughout o
 ur practice. All abilities welcome\, including injuries. No experience nee
 ded—just an open heart and a willingness to explore!
ATTACH;FMTTYPE=image/jpeg:https://www.cbsnapa.org/wp-content/uploads/2025/
 07/Torah-yoga-chair.png
CATEGORIES:General Jewish Community,Special Events
END:VEVENT
BEGIN:VTIMEZONE
TZID:America/Los_Angeles
X-LIC-LOCATION:America/Los_Angeles
BEGIN:DAYLIGHT
DTSTART:20250309T030000
TZOFFSETFROM:-0800
TZOFFSETTO:-0700
TZNAME:PDT
END:DAYLIGHT
END:VTIMEZONE
END:VCALENDAR