BEGIN:VCALENDAR
VERSION:2.0
PRODID:-//wp-events-plugin.com//7.2.3.1//EN
TZID:America/Los_Angeles
X-WR-TIMEZONE:America/Los_Angeles
BEGIN:VEVENT
UID:209@cbsnapa.org
DTSTART;TZID=America/Los_Angeles:20251002T093000
DTEND;TZID=America/Los_Angeles:20251002T200000
DTSTAMP:20250809T224734Z
URL:https://www.cbsnapa.org/events/yom-kippur/
SUMMARY:Yom Kippur
DESCRIPTION:Join us for Yom Kippur\, the holiest day in the Jewish calendar
 \, as we come together for a day of reflection\, prayer\, and atonement. R
 egistration is required\, click More Info button below for our complete sc
 hedule of Yom Kippur services and the link to register.
ATTACH;FMTTYPE=image/jpeg:https://www.cbsnapa.org/wp-content/uploads/2025/
 07/yom-kippur.png
CATEGORIES:Holiday Program,Special Events
END:VEVENT
BEGIN:VTIMEZONE
TZID:America/Los_Angeles
X-LIC-LOCATION:America/Los_Angeles
BEGIN:DAYLIGHT
DTSTART:20250309T030000
TZOFFSETFROM:-0800
TZOFFSETTO:-0700
TZNAME:PDT
END:DAYLIGHT
END:VTIMEZONE
END:VCALENDAR