BEGIN:VCALENDAR
VERSION:2.0
PRODID:-//wp-events-plugin.com//7.2.3.1//EN
TZID:America/Los_Angeles
X-WR-TIMEZONE:America/Los_Angeles
BEGIN:VEVENT
UID:162@cbsnapa.org
DTSTART;TZID=America/Los_Angeles:20251009T153000
DTEND;TZID=America/Los_Angeles:20251009T170000
DTSTAMP:20250731T230555Z
URL:https://www.cbsnapa.org/events/your-write-to-resilience-2-2025-10-09/
SUMMARY:Your Write to Resilience
DESCRIPTION:Join this guided wellness practice based on the science of expr
 essive writing. The process of expressing our emotions through writing has
  long been shown to improve both physical and mental well-being. New parti
 cipants always welcome.
ATTACH;FMTTYPE=image/jpeg:https://www.cbsnapa.org/wp-content/uploads/2025/
 07/your-write.jpg
CATEGORIES:Special Events,Your Write to Resilience
END:VEVENT
BEGIN:VTIMEZONE
TZID:America/Los_Angeles
X-LIC-LOCATION:America/Los_Angeles
BEGIN:DAYLIGHT
DTSTART:20250309T030000
TZOFFSETFROM:-0800
TZOFFSETTO:-0700
TZNAME:PDT
END:DAYLIGHT
END:VTIMEZONE
END:VCALENDAR